BEGIN:VCALENDAR
VERSION:2.0
PRODID:-//Illinois Section ASCE – American Society of Civil Engineers - ECPv6.15.20//NONSGML v1.0//EN
CALSCALE:GREGORIAN
METHOD:PUBLISH
X-WR-CALNAME:Illinois Section ASCE – American Society of Civil Engineers
X-ORIGINAL-URL:https://isasce.org
X-WR-CALDESC:Events for Illinois Section ASCE – American Society of Civil Engineers
REFRESH-INTERVAL;VALUE=DURATION:PT1H
X-Robots-Tag:noindex
X-PUBLISHED-TTL:PT1H
BEGIN:VTIMEZONE
TZID:America/Chicago
BEGIN:DAYLIGHT
TZOFFSETFROM:-0600
TZOFFSETTO:-0500
TZNAME:CDT
DTSTART:20250309T080000
END:DAYLIGHT
BEGIN:STANDARD
TZOFFSETFROM:-0500
TZOFFSETTO:-0600
TZNAME:CST
DTSTART:20251102T070000
END:STANDARD
BEGIN:DAYLIGHT
TZOFFSETFROM:-0600
TZOFFSETTO:-0500
TZNAME:CDT
DTSTART:20260308T080000
END:DAYLIGHT
BEGIN:STANDARD
TZOFFSETFROM:-0500
TZOFFSETTO:-0600
TZNAME:CST
DTSTART:20261101T070000
END:STANDARD
BEGIN:DAYLIGHT
TZOFFSETFROM:-0600
TZOFFSETTO:-0500
TZNAME:CDT
DTSTART:20270314T080000
END:DAYLIGHT
BEGIN:STANDARD
TZOFFSETFROM:-0500
TZOFFSETTO:-0600
TZNAME:CST
DTSTART:20271107T070000
END:STANDARD
END:VTIMEZONE
BEGIN:VEVENT
DTSTART;TZID=America/Chicago:20260501T080000
DTEND;TZID=America/Chicago:20260501T170000
DTSTAMP:20260421T153659
CREATED:20260223T035222Z
LAST-MODIFIED:20260223T154500Z
UID:10000124-1777622400-1777654800@isasce.org
SUMMARY:2026 Geo-Institute Lecture Series
DESCRIPTION:Please join the Illinois Chapter of the Geo-Institute for our biennial Lecture Series. The Lecture Series will take place at UIC\, where we will be hosted by Prof. Reddy and his department. This events provides 5 PDHs.\n\n\n\n\n\n\n\n\nSpeakers and topics are:\n\n\n1) “3D SLOPE STABILITY ANALSYES IN PRACTICE\,” Timothy D. Stark\, PhD\, PE\, BC.GE\, University of Illinois – Urbana-Champaign\n\n\n\n\n\n2) “Monitoring of Dams and Levees using InSAR – Lessons Learned”\, Georgette Hlepas\, PhD\, PE\, USACE\n\n\n\n\n\n3) “Milestones and Challenges in the Construction of a 42-Acre Containment Facility in Milwaukee Harbor\,” Justin Johnson\, Michels Construction\, Inc\, and Kevin R. Johnson\, PhD\, PE\, Mi-Tech Services\, Inc\n\n\n\n\n\n4) “Tunneling Through Complexity: Subsurface Challenges for O’Hare’s Stormwater Conveyance System”\, Mark Stephani\, PE\, HNTB\n\n\n\n\n\n5) “Design and Construction of the World’s Largest DMM Retaining Structure”\, William Tanner\, PE\, Geosyntec Consultants and Matthew Chartier\, PE\, Geosyntec Consultants\n\n\n\n\n\n\n\n\nMore information on the seminar\, registration links\, and abstracts/bios for each of our distinguished speakers can be found here. \n\n\n \n\n\nThe full registration fee covers lecture attendance\, continental breakfast\, and lunch. Firms are invited to exhibit your products\, services\, or emerging technologies to the engineering community. Exhibitor space consists of a table and electric and includes one general registration to the conference. And if your company would like to sponsor the event\, please click here!\n\n\n\n\n\nWe encourage you to register early for the Lecture Series. Early bird rates are available until April 1th. \n\n\n\n\n\n\nPrice: Individuals $50-450 | Exhibitor $850-1000
URL:https://isasce.org/event/2026-geo-institute-lecture-series/
LOCATION:UIC-Student Center\, 750 S. Halsted St.\, Chicago\, IL\, 60607\, United States
CATEGORIES:General,Geo Institute
END:VEVENT
END:VCALENDAR