BEGIN:VCALENDAR
VERSION:2.0
PRODID:-//Illinois Section ASCE – American Society of Civil Engineers - ECPv6.15.20//NONSGML v1.0//EN
CALSCALE:GREGORIAN
METHOD:PUBLISH
X-ORIGINAL-URL:https://isasce.org
X-WR-CALDESC:Events for Illinois Section ASCE – American Society of Civil Engineers
REFRESH-INTERVAL;VALUE=DURATION:PT1H
X-Robots-Tag:noindex
X-PUBLISHED-TTL:PT1H
BEGIN:VTIMEZONE
TZID:America/Chicago
BEGIN:DAYLIGHT
TZOFFSETFROM:-0600
TZOFFSETTO:-0500
TZNAME:CDT
DTSTART:20230312T080000
END:DAYLIGHT
BEGIN:STANDARD
TZOFFSETFROM:-0500
TZOFFSETTO:-0600
TZNAME:CST
DTSTART:20231105T070000
END:STANDARD
BEGIN:DAYLIGHT
TZOFFSETFROM:-0600
TZOFFSETTO:-0500
TZNAME:CDT
DTSTART:20240310T080000
END:DAYLIGHT
BEGIN:STANDARD
TZOFFSETFROM:-0500
TZOFFSETTO:-0600
TZNAME:CST
DTSTART:20241103T070000
END:STANDARD
BEGIN:DAYLIGHT
TZOFFSETFROM:-0600
TZOFFSETTO:-0500
TZNAME:CDT
DTSTART:20250309T080000
END:DAYLIGHT
BEGIN:STANDARD
TZOFFSETFROM:-0500
TZOFFSETTO:-0600
TZNAME:CST
DTSTART:20251102T070000
END:STANDARD
END:VTIMEZONE
BEGIN:VEVENT
DTSTART;TZID=America/Chicago:20240516T173000
DTEND;TZID=America/Chicago:20240516T200000
DTSTAMP:20260421T190526
CREATED:20240415T143514Z
LAST-MODIFIED:20240415T145217Z
UID:10000038-1715880600-1715889600@isasce.org
SUMMARY:IL Section ASCE UESI & CI Joint May Dinner Meeting - Commonwealth Edison Utility Relocation Process
DESCRIPTION:Please join us on May 16 for a dinner and presentation with ComEd’s Vincent Mazzaferro and HBK’s Eileen Koplin. The presentation will discuss the ComEd conflict review and relocation process for various agencies.\n\n\n\nCost: $65/per person\n\n\nSponsorship: $250 (includes 2 attendees)\n\n\n \n\n\n\n\nClick here to register\nEvent Flyer
URL:https://isasce.org/event/il-section-asce-uesi-ci-joint-may-dinner-meeting-commonwealth-edison-utility-relocation-process/
LOCATION:HBK Engineering\, 2101 W. Carroll Ave.\, Chicago\, IL\, United States
CATEGORIES:Construction Institute,Utility Engineering and Surveying Institute
ORGANIZER;CN="Dan Lowery":MAILTO:dlowery@transystems.com
END:VEVENT
END:VCALENDAR