BEGIN:VCALENDAR
VERSION:2.0
PRODID:-//Illinois Section ASCE – American Society of Civil Engineers - ECPv6.15.20//NONSGML v1.0//EN
CALSCALE:GREGORIAN
METHOD:PUBLISH
X-ORIGINAL-URL:https://isasce.org
X-WR-CALDESC:Events for Illinois Section ASCE – American Society of Civil Engineers
REFRESH-INTERVAL;VALUE=DURATION:PT1H
X-Robots-Tag:noindex
X-PUBLISHED-TTL:PT1H
BEGIN:VTIMEZONE
TZID:America/Chicago
BEGIN:DAYLIGHT
TZOFFSETFROM:-0600
TZOFFSETTO:-0500
TZNAME:CDT
DTSTART:20230312T080000
END:DAYLIGHT
BEGIN:STANDARD
TZOFFSETFROM:-0500
TZOFFSETTO:-0600
TZNAME:CST
DTSTART:20231105T070000
END:STANDARD
BEGIN:DAYLIGHT
TZOFFSETFROM:-0600
TZOFFSETTO:-0500
TZNAME:CDT
DTSTART:20240310T080000
END:DAYLIGHT
BEGIN:STANDARD
TZOFFSETFROM:-0500
TZOFFSETTO:-0600
TZNAME:CST
DTSTART:20241103T070000
END:STANDARD
BEGIN:DAYLIGHT
TZOFFSETFROM:-0600
TZOFFSETTO:-0500
TZNAME:CDT
DTSTART:20250309T080000
END:DAYLIGHT
BEGIN:STANDARD
TZOFFSETFROM:-0500
TZOFFSETTO:-0600
TZNAME:CST
DTSTART:20251102T070000
END:STANDARD
END:VTIMEZONE
BEGIN:VEVENT
DTSTART;TZID=America/Chicago:20240925T170000
DTEND;TZID=America/Chicago:20240925T193000
DTSTAMP:20260421T172527
CREATED:20240703T142223Z
LAST-MODIFIED:20240815T141408Z
UID:10000054-1727283600-1727292600@isasce.org
SUMMARY:IL Section ASCE CI/GI/EWRI IDOT Pump Station No. 4
DESCRIPTION:Come learn about the stormwater pumping station alongside the Eisenhower Expressway and Des Plaines River! IDOT engineers\, as well as representatives from IHC Companies\, will present the challenges and successes of this massive and unique project.\n\n\n\nCost:\n\n\nProfessional $75\n\n\nGovernment $65\n\n\nStudent $35\n\n\nGold Sponsor (includes 4 tickets) $350\n\n\nSilver Sponsor (includes 2 tickets) $200\n\n\nBronze Sponsor (Includes 1 ticket) $100\n\n\nRegistration and additional information\n\n\n \n\n\nHosted by the Construction Institute\, Geo-Institute\, and Environmental & Water Resources Institute
URL:https://isasce.org/event/il-section-asce-ci-gi-ewri-idot-pump-station-no-4-save-the-date/
LOCATION:Harry Caray’s Italian Steakhouse-Lombard\, 70 Yorktown Shopping Center\, Lombard\, IL\, 60148\, United States
CATEGORIES:Construction Institute,EWRI,General,Geo Institute
END:VEVENT
END:VCALENDAR