BEGIN:VCALENDAR
VERSION:2.0
PRODID:-//Illinois Section ASCE – American Society of Civil Engineers - ECPv6.15.20//NONSGML v1.0//EN
CALSCALE:GREGORIAN
METHOD:PUBLISH
X-ORIGINAL-URL:https://isasce.org
X-WR-CALDESC:Events for Illinois Section ASCE – American Society of Civil Engineers
REFRESH-INTERVAL;VALUE=DURATION:PT1H
X-Robots-Tag:noindex
X-PUBLISHED-TTL:PT1H
BEGIN:VTIMEZONE
TZID:America/Chicago
BEGIN:DAYLIGHT
TZOFFSETFROM:-0600
TZOFFSETTO:-0500
TZNAME:CDT
DTSTART:20230312T080000
END:DAYLIGHT
BEGIN:STANDARD
TZOFFSETFROM:-0500
TZOFFSETTO:-0600
TZNAME:CST
DTSTART:20231105T070000
END:STANDARD
BEGIN:DAYLIGHT
TZOFFSETFROM:-0600
TZOFFSETTO:-0500
TZNAME:CDT
DTSTART:20240310T080000
END:DAYLIGHT
BEGIN:STANDARD
TZOFFSETFROM:-0500
TZOFFSETTO:-0600
TZNAME:CST
DTSTART:20241103T070000
END:STANDARD
BEGIN:DAYLIGHT
TZOFFSETFROM:-0600
TZOFFSETTO:-0500
TZNAME:CDT
DTSTART:20250309T080000
END:DAYLIGHT
BEGIN:STANDARD
TZOFFSETFROM:-0500
TZOFFSETTO:-0600
TZNAME:CST
DTSTART:20251102T070000
END:STANDARD
END:VTIMEZONE
BEGIN:VEVENT
DTSTART;TZID=America/Chicago:20240619T180000
DTEND;TZID=America/Chicago:20240619T210000
DTSTAMP:20260421T173932
CREATED:20240424T220032Z
LAST-MODIFIED:20240424T220032Z
UID:10000041-1718820000-1718830800@isasce.org
SUMMARY:Engineers Without Borders Summer Social - Grooves for Good: A Night of Jazz
DESCRIPTION:Our “Grooves for Good” fundraiser is on June 19th and it will feature a celebration of our clean water projects in Kenya\, Guatemala\, and Tanzania. It will also include a jazz band performance from a chapter member of EWB — Morgan Street Jazz. Tickets are now on sale here: https://support.ewb-usa.org/GroovesForGood. Even if you’re brand new to Engineers Without Borders – Chicago\, this is a great event to attend and learn about all the great work our chapter is doing! This will be a great opportunity to meet with our amazing network of local engineers. 
URL:https://isasce.org/event/engineers-without-borders-summer-social-grooves-for-good-a-night-of-jazz/
LOCATION:Guild Row\, 3130 North Rockwell Street\, Chicago\, IL\, 60618\, United States
CATEGORIES:General
END:VEVENT
END:VCALENDAR