BEGIN:VCALENDAR
VERSION:2.0
PRODID:-//Illinois Section ASCE – American Society of Civil Engineers - ECPv6.15.20//NONSGML v1.0//EN
CALSCALE:GREGORIAN
METHOD:PUBLISH
X-WR-CALNAME:Illinois Section ASCE – American Society of Civil Engineers
X-ORIGINAL-URL:https://isasce.org
X-WR-CALDESC:Events for Illinois Section ASCE – American Society of Civil Engineers
REFRESH-INTERVAL;VALUE=DURATION:PT1H
X-Robots-Tag:noindex
X-PUBLISHED-TTL:PT1H
BEGIN:VTIMEZONE
TZID:America/Chicago
BEGIN:DAYLIGHT
TZOFFSETFROM:-0600
TZOFFSETTO:-0500
TZNAME:CDT
DTSTART:20250309T080000
END:DAYLIGHT
BEGIN:STANDARD
TZOFFSETFROM:-0500
TZOFFSETTO:-0600
TZNAME:CST
DTSTART:20251102T070000
END:STANDARD
BEGIN:DAYLIGHT
TZOFFSETFROM:-0600
TZOFFSETTO:-0500
TZNAME:CDT
DTSTART:20260308T080000
END:DAYLIGHT
BEGIN:STANDARD
TZOFFSETFROM:-0500
TZOFFSETTO:-0600
TZNAME:CST
DTSTART:20261101T070000
END:STANDARD
BEGIN:DAYLIGHT
TZOFFSETFROM:-0600
TZOFFSETTO:-0500
TZNAME:CDT
DTSTART:20270314T080000
END:DAYLIGHT
BEGIN:STANDARD
TZOFFSETFROM:-0500
TZOFFSETTO:-0600
TZNAME:CST
DTSTART:20271107T070000
END:STANDARD
END:VTIMEZONE
BEGIN:VEVENT
DTSTART;TZID=America/Chicago:20260226T173000
DTEND;TZID=America/Chicago:20260226T193000
DTSTAMP:20260422T030914
CREATED:20260208T052845Z
LAST-MODIFIED:20260208T052845Z
UID:10000123-1772127000-1772134200@isasce.org
SUMMARY:IL-ASCE and YMG: Professional Mixer and Trivia Night
DESCRIPTION:Join the IL-Section ASCE Mentorship Program Committee and Younger Members Group for a night of networking\, LinkedIn Best Practices\, and… TRIVIA! Light food and beverages will be provided.\n\n\n\n\n\nRegistration is required by Monday\, February 23rd. RSVP here.\n\n\nEvent is FREE for Mentorship Pairs and ASCE/Student Members
URL:https://isasce.org/event/il-asce-and-ymg-professional-mixer-and-trivia-night/
LOCATION:Benesch Office\, 35 W Wacker Dr #3300\, Chicago\, IL\, 60601\, United States
CATEGORIES:General,Younger Member Group
END:VEVENT
END:VCALENDAR