BEGIN:VCALENDAR
VERSION:2.0
PRODID:-//Illinois Section ASCE – American Society of Civil Engineers - ECPv6.15.20//NONSGML v1.0//EN
CALSCALE:GREGORIAN
METHOD:PUBLISH
X-WR-CALNAME:Illinois Section ASCE – American Society of Civil Engineers
X-ORIGINAL-URL:https://isasce.org
X-WR-CALDESC:Events for Illinois Section ASCE – American Society of Civil Engineers
REFRESH-INTERVAL;VALUE=DURATION:PT1H
X-Robots-Tag:noindex
X-PUBLISHED-TTL:PT1H
BEGIN:VTIMEZONE
TZID:America/Chicago
BEGIN:DAYLIGHT
TZOFFSETFROM:-0600
TZOFFSETTO:-0500
TZNAME:CDT
DTSTART:20230312T080000
END:DAYLIGHT
BEGIN:STANDARD
TZOFFSETFROM:-0500
TZOFFSETTO:-0600
TZNAME:CST
DTSTART:20231105T070000
END:STANDARD
BEGIN:DAYLIGHT
TZOFFSETFROM:-0600
TZOFFSETTO:-0500
TZNAME:CDT
DTSTART:20240310T080000
END:DAYLIGHT
BEGIN:STANDARD
TZOFFSETFROM:-0500
TZOFFSETTO:-0600
TZNAME:CST
DTSTART:20241103T070000
END:STANDARD
BEGIN:DAYLIGHT
TZOFFSETFROM:-0600
TZOFFSETTO:-0500
TZNAME:CDT
DTSTART:20250309T080000
END:DAYLIGHT
BEGIN:STANDARD
TZOFFSETFROM:-0500
TZOFFSETTO:-0600
TZNAME:CST
DTSTART:20251102T070000
END:STANDARD
END:VTIMEZONE
BEGIN:VEVENT
DTSTART;TZID=America/Chicago:20240613T173000
DTEND;TZID=America/Chicago:20240613T203000
DTSTAMP:20260421T191857
CREATED:20240409T195239Z
LAST-MODIFIED:20240524T160811Z
UID:10000036-1718299800-1718310600@isasce.org
SUMMARY:Diversity and Inclusion Fundraising Event - Topgolf Schaumburg
DESCRIPTION:The Illinois Section ASCE DI TopGolf Event benefits the Illinois Section’s Diversity and Inclusion initiatives. This year\, the D&I committee is partnering with local community colleges to increase the presence and awareness of Civil Engineering. \nOnly click on registering others if you purchase an additional $90/person ticket(s). \nIf you are registering a twosome\, you will have the option to do so as part of the sponsorship later during the registration process. This ensures a smooth and straightforward registration experience for all participants. \nRegister here
URL:https://isasce.org/event/diversity-and-inclusion-fundraising-event-topgolf-schaumburg-save-the-date/
LOCATION:Topgolf – Schaumburg\, 2050 Progress Parkway\, Schaumburg\, IL\, United States
CATEGORIES:General
ORGANIZER;CN="Megan Elberts":MAILTO:melberts@geconsultllc.com
END:VEVENT
END:VCALENDAR