BEGIN:VCALENDAR
VERSION:2.0
PRODID:-//Illinois Section ASCE – American Society of Civil Engineers - ECPv6.15.20//NONSGML v1.0//EN
CALSCALE:GREGORIAN
METHOD:PUBLISH
X-ORIGINAL-URL:https://isasce.org
X-WR-CALDESC:Events for Illinois Section ASCE – American Society of Civil Engineers
REFRESH-INTERVAL;VALUE=DURATION:PT1H
X-Robots-Tag:noindex
X-PUBLISHED-TTL:PT1H
BEGIN:VTIMEZONE
TZID:America/Chicago
BEGIN:DAYLIGHT
TZOFFSETFROM:-0600
TZOFFSETTO:-0500
TZNAME:CDT
DTSTART:20230312T080000
END:DAYLIGHT
BEGIN:STANDARD
TZOFFSETFROM:-0500
TZOFFSETTO:-0600
TZNAME:CST
DTSTART:20231105T070000
END:STANDARD
BEGIN:DAYLIGHT
TZOFFSETFROM:-0600
TZOFFSETTO:-0500
TZNAME:CDT
DTSTART:20240310T080000
END:DAYLIGHT
BEGIN:STANDARD
TZOFFSETFROM:-0500
TZOFFSETTO:-0600
TZNAME:CST
DTSTART:20241103T070000
END:STANDARD
BEGIN:DAYLIGHT
TZOFFSETFROM:-0600
TZOFFSETTO:-0500
TZNAME:CDT
DTSTART:20250309T080000
END:DAYLIGHT
BEGIN:STANDARD
TZOFFSETFROM:-0500
TZOFFSETTO:-0600
TZNAME:CST
DTSTART:20251102T070000
END:STANDARD
BEGIN:DAYLIGHT
TZOFFSETFROM:-0600
TZOFFSETTO:-0500
TZNAME:CDT
DTSTART:20260308T080000
END:DAYLIGHT
BEGIN:STANDARD
TZOFFSETFROM:-0500
TZOFFSETTO:-0600
TZNAME:CST
DTSTART:20261101T070000
END:STANDARD
END:VTIMEZONE
BEGIN:VEVENT
DTSTART;TZID=America/Chicago:20250610T173000
DTEND;TZID=America/Chicago:20250610T183000
DTSTAMP:20260421T225702
CREATED:20241029T152151Z
LAST-MODIFIED:20250528T202428Z
UID:10000093-1749576600-1749580200@isasce.org
SUMMARY:IL Section T&DI Board Meeting
DESCRIPTION:Board meetings are open to all members\, if you plan to attend\, please inform T&DI Chair\, Josh Starzyk\, at jstarzyk@GFNET.com. \n 
URL:https://isasce.org/event/il-section-tdi-board-meeting/2025-06-10/
CATEGORIES:T&DI
ORGANIZER;CN="Josh Starzyk":MAILTO:jstarzyk@GFNET.com
END:VEVENT
BEGIN:VEVENT
DTSTART;TZID=America/Chicago:20241112T173000
DTEND;TZID=America/Chicago:20241112T183000
DTSTAMP:20260421T225702
CREATED:20241029T152151Z
LAST-MODIFIED:20250528T202428Z
UID:10000065-1731432600-1731436200@isasce.org
SUMMARY:IL Section T&DI Board Meeting
DESCRIPTION:Board meetings are open to all members\, if you plan to attend\, please inform T&DI Chair\, Josh Starzyk\, at jstarzyk@GFNET.com. \n 
URL:https://isasce.org/event/il-section-tdi-board-meeting/2024-11-12/
CATEGORIES:T&DI
ORGANIZER;CN="Josh Starzyk":MAILTO:jstarzyk@GFNET.com
END:VEVENT
END:VCALENDAR