BEGIN:VCALENDAR
VERSION:2.0
PRODID:-//Illinois Section ASCE – American Society of Civil Engineers - ECPv6.15.20//NONSGML v1.0//EN
CALSCALE:GREGORIAN
METHOD:PUBLISH
X-ORIGINAL-URL:https://isasce.org
X-WR-CALDESC:Events for Illinois Section ASCE – American Society of Civil Engineers
REFRESH-INTERVAL;VALUE=DURATION:PT1H
X-Robots-Tag:noindex
X-PUBLISHED-TTL:PT1H
BEGIN:VTIMEZONE
TZID:America/Chicago
BEGIN:DAYLIGHT
TZOFFSETFROM:-0600
TZOFFSETTO:-0500
TZNAME:CDT
DTSTART:20240310T080000
END:DAYLIGHT
BEGIN:STANDARD
TZOFFSETFROM:-0500
TZOFFSETTO:-0600
TZNAME:CST
DTSTART:20241103T070000
END:STANDARD
BEGIN:DAYLIGHT
TZOFFSETFROM:-0600
TZOFFSETTO:-0500
TZNAME:CDT
DTSTART:20250309T080000
END:DAYLIGHT
BEGIN:STANDARD
TZOFFSETFROM:-0500
TZOFFSETTO:-0600
TZNAME:CST
DTSTART:20251102T070000
END:STANDARD
BEGIN:DAYLIGHT
TZOFFSETFROM:-0600
TZOFFSETTO:-0500
TZNAME:CDT
DTSTART:20260308T080000
END:DAYLIGHT
BEGIN:STANDARD
TZOFFSETFROM:-0500
TZOFFSETTO:-0600
TZNAME:CST
DTSTART:20261101T070000
END:STANDARD
END:VTIMEZONE
BEGIN:VEVENT
DTSTART;TZID=America/Chicago:20250515T173000
DTEND;TZID=America/Chicago:20250515T193000
DTSTAMP:20260422T120852
CREATED:20250416T193508Z
LAST-MODIFIED:20250416T193508Z
UID:10000089-1747330200-1747337400@isasce.org
SUMMARY:IL Section ASCE UESI Event - Learn about the updates to the JULIE Law (SAVE THE DATE)
DESCRIPTION:More information and registration to be forthcoming.\n\n\n \n\n\nJULIE Law Updates Informational Brochure
URL:https://isasce.org/event/il-section-asce-uesi-event-learn-about-the-updates-to-the-julie-law-save-the-date/
LOCATION:IL
CATEGORIES:Utility Engineering and Surveying Institute
END:VEVENT
END:VCALENDAR