BEGIN:VCALENDAR
VERSION:2.0
PRODID:-//Illinois Section ASCE – American Society of Civil Engineers - ECPv6.15.20//NONSGML v1.0//EN
CALSCALE:GREGORIAN
METHOD:PUBLISH
X-WR-CALNAME:Illinois Section ASCE – American Society of Civil Engineers
X-ORIGINAL-URL:https://isasce.org
X-WR-CALDESC:Events for Illinois Section ASCE – American Society of Civil Engineers
REFRESH-INTERVAL;VALUE=DURATION:PT1H
X-Robots-Tag:noindex
X-PUBLISHED-TTL:PT1H
BEGIN:VTIMEZONE
TZID:America/Chicago
BEGIN:DAYLIGHT
TZOFFSETFROM:-0600
TZOFFSETTO:-0500
TZNAME:CDT
DTSTART:20240310T080000
END:DAYLIGHT
BEGIN:STANDARD
TZOFFSETFROM:-0500
TZOFFSETTO:-0600
TZNAME:CST
DTSTART:20241103T070000
END:STANDARD
BEGIN:DAYLIGHT
TZOFFSETFROM:-0600
TZOFFSETTO:-0500
TZNAME:CDT
DTSTART:20250309T080000
END:DAYLIGHT
BEGIN:STANDARD
TZOFFSETFROM:-0500
TZOFFSETTO:-0600
TZNAME:CST
DTSTART:20251102T070000
END:STANDARD
BEGIN:DAYLIGHT
TZOFFSETFROM:-0600
TZOFFSETTO:-0500
TZNAME:CDT
DTSTART:20260308T080000
END:DAYLIGHT
BEGIN:STANDARD
TZOFFSETFROM:-0500
TZOFFSETTO:-0600
TZNAME:CST
DTSTART:20261101T070000
END:STANDARD
END:VTIMEZONE
BEGIN:VEVENT
DTSTART;TZID=America/Chicago:20250226T173000
DTEND;TZID=America/Chicago:20250226T193000
DTSTAMP:20260422T170640
CREATED:20250110T212356Z
LAST-MODIFIED:20250128T232113Z
UID:10000074-1740591000-1740598200@isasce.org
SUMMARY:IL Section ASCE EWRI/UESI Dinner Event Flow and Function: Managing Stormwater and Utilities
DESCRIPTION:The Illinois Section of ASCE Utility Engineering & Survey Institute (UESI) in conjunction with EWRI\, invite you to save the date for a dinner presentation on navigating utilities in various stormwater projects by representatives from the Metropolitan Water Reclamation District (MWRD) and DuPage County Stormwater Management.\n\n\n\nThe event will be held February 26th at the DuPage County Administration Building in Wheaton with doors opening at 5:30pm and presentations at 6:00pm. All attendees should park in the 421 south surface lot and enter through the main entrance.\n\nPDHs will be provided. \n\n\nCost: $70/Person\n$300 For a Company Sponsorship including two registrants\n\n\nRegister Here by February 23rd.\n\nEvent Save the Date Flyer
URL:https://isasce.org/event/il-section-asce-ewri-uesi-dinner-event-flow-and-function-managing-stormwater-and-utilities-save-the-date/
LOCATION:DuPage County Administration Building\, 421 N County Farm Rd\, Wheaton\, IL\, 60187\, United States
CATEGORIES:EWRI,Utility Engineering and Surveying Institute
END:VEVENT
END:VCALENDAR