BEGIN:VCALENDAR
VERSION:2.0
PRODID:-//Illinois Section ASCE – American Society of Civil Engineers - ECPv6.15.20//NONSGML v1.0//EN
CALSCALE:GREGORIAN
METHOD:PUBLISH
X-WR-CALNAME:Illinois Section ASCE – American Society of Civil Engineers
X-ORIGINAL-URL:https://isasce.org
X-WR-CALDESC:Events for Illinois Section ASCE – American Society of Civil Engineers
REFRESH-INTERVAL;VALUE=DURATION:PT1H
X-Robots-Tag:noindex
X-PUBLISHED-TTL:PT1H
BEGIN:VTIMEZONE
TZID:America/Chicago
BEGIN:DAYLIGHT
TZOFFSETFROM:-0600
TZOFFSETTO:-0500
TZNAME:CDT
DTSTART:20240310T080000
END:DAYLIGHT
BEGIN:STANDARD
TZOFFSETFROM:-0500
TZOFFSETTO:-0600
TZNAME:CST
DTSTART:20241103T070000
END:STANDARD
BEGIN:DAYLIGHT
TZOFFSETFROM:-0600
TZOFFSETTO:-0500
TZNAME:CDT
DTSTART:20250309T080000
END:DAYLIGHT
BEGIN:STANDARD
TZOFFSETFROM:-0500
TZOFFSETTO:-0600
TZNAME:CST
DTSTART:20251102T070000
END:STANDARD
BEGIN:DAYLIGHT
TZOFFSETFROM:-0600
TZOFFSETTO:-0500
TZNAME:CDT
DTSTART:20260308T080000
END:DAYLIGHT
BEGIN:STANDARD
TZOFFSETFROM:-0500
TZOFFSETTO:-0600
TZNAME:CST
DTSTART:20261101T070000
END:STANDARD
END:VTIMEZONE
BEGIN:VEVENT
DTSTART;TZID=America/Chicago:20250430T113000
DTEND;TZID=America/Chicago:20250430T200000
DTSTAMP:20260422T120340
CREATED:20250318T225117Z
LAST-MODIFIED:20250318T225117Z
UID:10000084-1746012600-1746043200@isasce.org
SUMMARY:2025 Transportation for Illinois Coalition (TFIC) Legislative Lobby Day
DESCRIPTION:Please join us for the Legislative Drive Down on April 30th.\n\n\n\n\n\nASCE Illinois Section has been a part of the TFIC for nearly 15 years and has been a great partnership. We will have our 2022 Illinois Infrastructure Report Card on-hand to help inform our legislators about the status of our Illinois Infrastructure\, which has been used by TFIC in their legislative outreach. The Transportation for Illinois Coalition unites stakeholders from business\, labor\, and local governments to educate policymakers and the public about the need for adequate investment in Illinois’ transportation infrastructure. The TFIC is the recognized authority on and unifying voice for transportation needs in Illinois. TFIC exists to achieve the best transportation systems in order to guarantee economic success. This includes and touches many aspects of the transportation network from roads/highways\, bridges\, airports\, shipping/trucking\, intermodal\, rail\, and agricultural needs. There will be Leadership Briefings and Legislator meetings setup by TFIC. In the evening there will be a legislative reception. \n\n\n\n\n\nTentative agenda:\n\n\n\n\n\n11:30am: Welcome\n\n\n12:45: Walk to Capital\n\n\n1:00: Lobby Day Leadership Briefings\n\n\n2:30: Legislator Meetings\n\n\n5-8pm: Reception at Vinegar Hill Mall in Springfield\, IL\n\n\n\n\n\nPlease Register for this event here. There is no cost to participate.
URL:https://isasce.org/event/2025-transportation-for-illinois-coalition-tfic-legislative-lobby-day/
LOCATION:IL
CATEGORIES:Construction Institute,EWRI,General,Geo Institute,SEI,T&DI,Utility Engineering and Surveying Institute
END:VEVENT
END:VCALENDAR