BEGIN:VCALENDAR
VERSION:2.0
PRODID:-//Illinois Section ASCE – American Society of Civil Engineers - ECPv6.15.20//NONSGML v1.0//EN
CALSCALE:GREGORIAN
METHOD:PUBLISH
X-WR-CALNAME:Illinois Section ASCE – American Society of Civil Engineers
X-ORIGINAL-URL:https://isasce.org
X-WR-CALDESC:Events for Illinois Section ASCE – American Society of Civil Engineers
REFRESH-INTERVAL;VALUE=DURATION:PT1H
X-Robots-Tag:noindex
X-PUBLISHED-TTL:PT1H
BEGIN:VTIMEZONE
TZID:America/Chicago
BEGIN:DAYLIGHT
TZOFFSETFROM:-0600
TZOFFSETTO:-0500
TZNAME:CDT
DTSTART:20240310T080000
END:DAYLIGHT
BEGIN:STANDARD
TZOFFSETFROM:-0500
TZOFFSETTO:-0600
TZNAME:CST
DTSTART:20241103T070000
END:STANDARD
BEGIN:DAYLIGHT
TZOFFSETFROM:-0600
TZOFFSETTO:-0500
TZNAME:CDT
DTSTART:20250309T080000
END:DAYLIGHT
BEGIN:STANDARD
TZOFFSETFROM:-0500
TZOFFSETTO:-0600
TZNAME:CST
DTSTART:20251102T070000
END:STANDARD
BEGIN:DAYLIGHT
TZOFFSETFROM:-0600
TZOFFSETTO:-0500
TZNAME:CDT
DTSTART:20260308T080000
END:DAYLIGHT
BEGIN:STANDARD
TZOFFSETFROM:-0500
TZOFFSETTO:-0600
TZNAME:CST
DTSTART:20261101T070000
END:STANDARD
END:VTIMEZONE
BEGIN:VEVENT
DTSTART;TZID=America/Chicago:20250528T113000
DTEND;TZID=America/Chicago:20250528T133000
DTSTAMP:20260422T103007
CREATED:20250507T151532Z
LAST-MODIFIED:20250519T200136Z
UID:10000090-1748431800-1748439000@isasce.org
SUMMARY:IL Section ASCE T&DI May Panel Luncheon – Championing Future Engineers
DESCRIPTION:Summary: \nJoin Dr. Hadavi (Clinical Professor and Deputy Director of CEE at Northwestern) and Dr. Khudeira (Adjunct Professor at IIT/ Section Chief of Major Projects at CDOT) for a panel discussion on how the local universities are working to educate and promote civil engineering to the next generation\, and what us as professionals can do to help foster the growth of these young engineers.  Monica Crinion\, PE (AECOM) and Matt Huffman\, PE (CBBEL) will also be on the panel to provide an insight from the consulting engineers perspective. \nSpecial Pricing for bringing an intern/EIT. \nRegistration: https://lp.constantcontactpages.com/ev/reg/us2sxnt/lp/cd3d42e4-054b-4b25-8e8a-1baf2f3041b0 \n\nCost:\nASCE Member $65\nGeneral $75\nGovernment $45\nStudent $35Champion Ticket $90 – Includes 2 Seats (One general ticket and one must be a future champion (young engineer (entry-level/EIT) or student)Bronze Sponsorship – Includes 1 Seat $135\nSilver Sponsorship – Includes 2 Seats $250 \n\n\n\nGold (Half) Sponsorship – Includes 4 Seats $450\n\n\nGold (Full) Sponsorship – Includes 8 Seats $750\n\n\n \n\n\nSummary:\n\n\n\n\n\nJoin Dr. Hadavi (Clinical Professor and Deputy Director of CEE at Northwestern) and Dr. Khudeira (Adjunct Professor at IIT/ Section Chief of Major Projects at CDOT) for a panel discussion on how the local universities are working to educate and promote civil engineering to the next generation\, and what us as professionals can do to help foster the growth of these young engineers.
URL:https://isasce.org/event/il-section-asce-tdi-may-panel-luncheon-championing-future-engineers/
LOCATION:Maggiano’s Chicago\, 111 W. Grand\, Chicago\, IL\, 60654\, United States
CATEGORIES:T&DI
END:VEVENT
END:VCALENDAR