BEGIN:VCALENDAR
VERSION:2.0
PRODID:-//Illinois Section ASCE – American Society of Civil Engineers - ECPv6.15.20//NONSGML v1.0//EN
CALSCALE:GREGORIAN
METHOD:PUBLISH
X-ORIGINAL-URL:https://isasce.org
X-WR-CALDESC:Events for Illinois Section ASCE – American Society of Civil Engineers
REFRESH-INTERVAL;VALUE=DURATION:PT1H
X-Robots-Tag:noindex
X-PUBLISHED-TTL:PT1H
BEGIN:VTIMEZONE
TZID:America/Chicago
BEGIN:DAYLIGHT
TZOFFSETFROM:-0600
TZOFFSETTO:-0500
TZNAME:CDT
DTSTART:20240310T080000
END:DAYLIGHT
BEGIN:STANDARD
TZOFFSETFROM:-0500
TZOFFSETTO:-0600
TZNAME:CST
DTSTART:20241103T070000
END:STANDARD
BEGIN:DAYLIGHT
TZOFFSETFROM:-0600
TZOFFSETTO:-0500
TZNAME:CDT
DTSTART:20250309T080000
END:DAYLIGHT
BEGIN:STANDARD
TZOFFSETFROM:-0500
TZOFFSETTO:-0600
TZNAME:CST
DTSTART:20251102T070000
END:STANDARD
BEGIN:DAYLIGHT
TZOFFSETFROM:-0600
TZOFFSETTO:-0500
TZNAME:CDT
DTSTART:20260308T080000
END:DAYLIGHT
BEGIN:STANDARD
TZOFFSETFROM:-0500
TZOFFSETTO:-0600
TZNAME:CST
DTSTART:20261101T070000
END:STANDARD
END:VTIMEZONE
BEGIN:VEVENT
DTSTART;TZID=America/Chicago:20251021T170000
DTEND;TZID=America/Chicago:20251021T200000
DTSTAMP:20260419T122637
CREATED:20250828T001155Z
LAST-MODIFIED:20250828T002217Z
UID:10000105-1761066000-1761076800@isasce.org
SUMMARY:SEI: 26th Biennial Lecture Series
DESCRIPTION:Join the SEI 26th Biennial Lecture Series! As we learn about different projects around Chicago. A light dinner will be served at each lecture.\n\n\n\nWe are looking for sponsors! Information provided here: 2025 LS Sponsorship Flyer.\n\n\n\nSESSION 1 – SEPTEMBER 9\n      CREATE P3 Forest Hill Flyover Joseph Abruzzo – Parsons\, Brett Guarino – CSX & Sarah Czaplicki PE\, SE – Czaplicki Lopez\n\n       Metra Bridge A32 & Grayland Station Tina Revzin & John Leary – Gannett Fleming TranSystems\n\nSESSION 2 – SEPTEMBER 30\n       TR Higgins Ronnie Medlock – High Steel Structures\n\n       Rehabilitation of the Sherman Minton Bridge Andrew Kimmle & John Finke – Jacobs\n\nSESSION 3 – OCTOBER 21\n       CTA Harlem Bus Bridge Irsilia Colletti\, PE\, SE & David Budzik\, SE – HNTB Canal\n\n       Street over Union Station Michael Haas – Collins & Brett Sauter – Ciorba\n\n\n\n\n\n\n\n\nRegister: All Three Sessions\n\n\n \n\n\nRegister Only: Session 1\n                        Session 2\n                        Session 3\n\n\n\n\n\nFull Lecture Series Rates (All Three Sessions)\n\n\n$250- Corporate Transferrable\n\n\n$220- Individual (Non- Gov Employee)\n\n\n$180- Individual (Gov Employee)\n\n\n$90- Full Time Student\n\n\n\n\n\nIndividual Session Rates\n\n\n$90- Individual (Non-Gov Employee)\n\n\n$65- Individual (Gov Employee)\n\n\n$35- Full Time Student\n\n\n\n\nMore Information: Save the Date 2025 LS Flyer
URL:https://isasce.org/event/sei-26th-biennial-lecture-series/2025-10-21/
LOCATION:Grand Century Suite\, 150 N Riverside Plaza\, Chicago\, IL\, 60606\, United States
CATEGORIES:SEI
END:VEVENT
END:VCALENDAR